BEGIN:VCALENDAR
VERSION:2.0
PRODID:-//eventon.com NONSGML v1.0//EN
CALSCALE:GREGORIAN
METHOD:PUBLISH
BEGIN:VEVENT
UID:69ea557c66404
DTSTAMP:20260423T172308Z
DTSTART:20260603
DTEND:20260604
LOCATION:Allianz MiCo - Milano viale Scarampo - Milano - Lombardia
SUMMARY:ESXENCE – THE ART PERFUMERY EVENT
DESCRIPTION:Sedicesima edizione dell’evento cult dedicato alle fragranze 
 d’autore a giugno negli spazi di Allianz MiCo&nbsp; &nbsp;Esxence – The
  Art Perfumery Event\, &nbsp;l’appuntamento di riferimento della profumer
 ia artistica a livello mondiale\,  si prepara alla sua sedicesima edizione 
 in programma&nbsp;dal 3 al 6 giugno 2026&nbsp;negli spazi di Allianz MiCo\,
   Milano Convention Centre\,  nel[..]\nhttps://www.fermataspettacolo.it/eve
 nti/esxence-the-art-perfumery-event
URL:https://www.fermataspettacolo.it/eventi/esxence-the-art-perfumery-event
END:VEVENT
END:VCALENDAR