BEGIN:VCALENDAR
VERSION:2.0
PRODID:-//eventon.com NONSGML v1.0//EN
CALSCALE:GREGORIAN
METHOD:PUBLISH
BEGIN:VEVENT
UID:69e5ccc235bf3
DTSTAMP:20260420T065042Z
DTSTART:20250919T000000Z
DTEND:20250925T000000Z
LOCATION:Teatro Petruzzelli - Bari Corso Cavour\,  12 
 70122 Bari - Bari - Puglia
SUMMARY:Giulio Cesare in Egitto
DESCRIPTION:Si era appena trasferito nella bella casa londinese in stile ge
 orgiano in Brooke Street\,  quando Friedrich Händel\,  fra estate e autunn
 o del 1723\,  compose il suo Giulio Cesare in Egitto\,  primo frutto di que
 l periodo eccezionalmente fecondo nella Capitale inglese: quella casa è og
 gi sede dell’Händel Hendrix House\,  dedicato ai[..]\nhttps://www.fermat
 aspettacolo.it/eventi/giulio-cesare-in-egitto
URL:https://www.fermataspettacolo.it/eventi/giulio-cesare-in-egitto
END:VEVENT
END:VCALENDAR