BEGIN:VCALENDAR
VERSION:2.0
PRODID:-//eventon.com NONSGML v1.0//EN
CALSCALE:GREGORIAN
METHOD:PUBLISH
BEGIN:VEVENT
UID:69e4d36e0fac7
DTSTAMP:20260419T130654Z
DTSTART:20250314T090000Z
DTEND:20250216T200000Z
LOCATION:Fiera Milano Rho - Milano - Rho Strada Statale Sempione\,  28 20017 Rho (MI) - Milano - Rho - Lombardia
SUMMARY:Fa la cosa giusta!
DESCRIPTION:La fiera del consumo critico e degli stili di vita sostenibili 
 a Fiera Milano Rho\,  dal 14 al 16 marzo 2025 “Il gusto della fiducia” 
 nell’edizione 2025 di Fa’ la cosa giusta!: nuova location\,  ingresso g
 ratuito\,  300 incontri per tutte le età nel programma culturale e 400 sta
 nd nelle 4[..]\nhttps://www.fermataspettacolo.it/eventi/fa-la-cosa-giusta
URL:https://www.fermataspettacolo.it/eventi/fa-la-cosa-giusta
END:VEVENT
END:VCALENDAR