BEGIN:VCALENDAR
VERSION:2.0
PRODID:-//eventon.com NONSGML v1.0//EN
CALSCALE:GREGORIAN
METHOD:PUBLISH
BEGIN:VEVENT
UID:69e92ee4c1a9d
DTSTAMP:20260422T202612Z
DTSTART:20240227
DTEND:20240228
LOCATION:Teatro Lirico Giorgio Gaber - Milano Via Larga 14 - Milano  - Lombardia
SUMMARY:Luca Ravenna – RED SOX
DESCRIPTION:RED SOX\,  che ha un importante contributo dalla cultura americ
 ana e dalla tradizione statunitense\,  rappresenta il grande ritorno sui pa
 lchi di Luca Ravenna a distanza di quasi un anno da un 2022 ricchissimo di 
 successi che l’ha visto registrare oltre 30.000 presenze in Italia e in E
 uropa\,  primo tra i[..]\nhttps://www.fermataspettacolo.it/eventi/luca-rave
 nna-red-sox
URL:https://www.fermataspettacolo.it/eventi/luca-ravenna-red-sox
END:VEVENT
END:VCALENDAR