BEGIN:VCALENDAR
VERSION:2.0
PRODID:-//eventon.com NONSGML v1.0//EN
CALSCALE:GREGORIAN
METHOD:PUBLISH
BEGIN:VEVENT
UID:69e528eb4e762
DTSTAMP:20260419T191139Z
DTSTART:20231204T150000Z
DTEND:20231220T190000Z
LOCATION:Galleria Vittoria - Roma Via Margutta 103 - Roma - Lazio
SUMMARY:Il vocabolario cromatico di Maria Camilla Pallavicini
DESCRIPTION:Dal 4 dicembre alle 18.00 Galleria Vittoria presenta “Il voca
 bolario cromatico” personale di Maria Camilla Pallavicini a cura di Tizia
 no M. Todi\,  l’esposizione propone un nucleo di 14 opere che rappresenta
 no la ricerca artistica portata avanti dall’artista negli ultimi anni\,  
 dal 2018 al 2023. Questa è la seconda mostra nella[..]\nhttps://www.fermat
 aspettacolo.it/eventi/il-vocabolario-cromatico-di-maria-camilla-pallavicini
URL:https://www.fermataspettacolo.it/eventi/il-vocabolario-cromatico-di-maria-camilla-pallavicini
END:VEVENT
END:VCALENDAR