BEGIN:VCALENDAR
VERSION:2.0
PRODID:-//eventon.com NONSGML v1.0//EN
CALSCALE:GREGORIAN
METHOD:PUBLISH
BEGIN:VEVENT
UID:69ebbeeb48dfb
DTSTAMP:20260424T190515Z
DTSTART:20231209T000000Z
DTEND:20231217T000000Z
LOCATION:Teatro di San Carlo - Napoli Via S. Carlo 98/F - Napoli - Campania
SUMMARY:Turandot
DESCRIPTION:Difficile comprendere quale dev’essere stata la condizione em
 otiva e artistica di Giacomo Puccini che\,  al termine d’una gestazione t
 ravagliata e complicata durata quattro anni\,  ci donò sì un complesso e 
 superbo capolavoro come Turandot\,  fermandosi però sulla soglia dell’in
 dicibile (in musica)\,  lì dove il genio suo\,  che pure aveva vinto[..]\n
 https://www.fermataspettacolo.it/eventi/turandot-5
URL:https://www.fermataspettacolo.it/eventi/turandot-5
END:VEVENT
END:VCALENDAR