BEGIN:VCALENDAR
VERSION:2.0
PRODID:-//eventon.com NONSGML v1.0//EN
CALSCALE:GREGORIAN
METHOD:PUBLISH
BEGIN:VEVENT
UID:69e8096fe1b1f
DTSTAMP:20260421T233407Z
DTSTART:20231109T210000Z
DTEND:20231112T220000Z
LOCATION:angelo mai - roma Via delle terme di caracalla 55 a - Roma - Lazio
SUMMARY:SCOPATE SENTIMENTALI
DESCRIPTION:SCOPATE SENTIMENTALI ESERCIZI DI SPARIZIONE uno spettacolo di e
  con Filippo Timi\,  Rodrigo D’Erasmo e Mario Conte dedicato a P.P. Pasol
 ini&nbsp; luci Andrea Gallo | suono Paolo&nbsp; progetto grafico Pazzi Desi
 gn Studio | una produzione Vertigo e UFO SCOPATE SENTIMENTALI ESERCIZI DI S
 PARIZIONE rivivendo il primo eco di quell’onda scandalosa[..]\nhttps://ww
 w.fermataspettacolo.it/eventi/scopate-sentimentali
URL:https://www.fermataspettacolo.it/eventi/scopate-sentimentali
END:VEVENT
END:VCALENDAR