BEGIN:VCALENDAR
VERSION:2.0
PRODID:-//eventon.com NONSGML v1.0//EN
CALSCALE:GREGORIAN
METHOD:PUBLISH
BEGIN:VEVENT
UID:69e4f20f67c13
DTSTAMP:20260419T151735Z
DTSTART:20200327
DTEND:20200328
LOCATION:online - italia -  -  - Abruzzo
SUMMARY:#iorestoacasa con L'Arte: i corsi di ritratto online di Roberto Di Costanzo
DESCRIPTION:L’artista Roberto Di Costanzo riparte dal Bello con i suoi co
 rsi online di ritratto &nbsp; Nella sua residenza nel cuore di Monteverde V
 ecchio\,  con un affaccio mozzafiato nel verde\,  l’artista Roberto Di Co
 stanzo ha ricreato un vero e proprio Atelier\,  continuando la sua missione
  artistica di diffusione di arte e[..]\nhttps://www.fermataspettacolo.it/ev
 enti/iorestoacasa-con-larte-i-corsi-di-ritratto-online-di-roberto-di-costan
 zo
URL:https://www.fermataspettacolo.it/eventi/iorestoacasa-con-larte-i-corsi-di-ritratto-online-di-roberto-di-costanzo
END:VEVENT
END:VCALENDAR