BEGIN:VCALENDAR
VERSION:2.0
PRODID:-//eventon.com NONSGML v1.0//EN
CALSCALE:GREGORIAN
METHOD:PUBLISH
BEGIN:VEVENT
UID:69eb264c27152
DTSTAMP:20260424T081404Z
DTSTART:20180509
DTEND:20180510
LOCATION:Vari - Modena  - Modena - Emilia-Romagna
SUMMARY:Balcani d'Europa_lo specchio di noi
DESCRIPTION:Modena | Dal 9 al 19 maggio 2018&nbsp; BALCANI D’EUROPA lo sp
 ecchio di noi esercizi di cittadinanza: incontri\,  testimoni\,  approfondi
 menti storici per capire il nostro presente &nbsp; a cura di Roberta Biagia
 relli &nbsp; Modena\,  7 maggio 2018 &#8211; In un&#8217;epoca in cui bene 
 comune ed esercizio della cittadinanza sono sempre[..]\nhttps://www.fermata
 spettacolo.it/eventi/balcani-deuropa_lo-specchio-di-noi
URL:https://www.fermataspettacolo.it/eventi/balcani-deuropa_lo-specchio-di-noi
END:VEVENT
END:VCALENDAR