BEGIN:VCALENDAR
VERSION:2.0
PRODID:-//eventon.com NONSGML v1.0//EN
CALSCALE:GREGORIAN
METHOD:PUBLISH
BEGIN:VEVENT
UID:69ebff908ff1d
DTSTAMP:20260424T234104Z
DTSTART:20180505T170000Z
DTEND:20180505T183000Z
LOCATION:Centro Poliedro - Pontedera Piazza Berlinguer - Pontedera  - Toscana
SUMMARY:INCONTRO CANTATO
DESCRIPTION:Nonostante i numerosi impegni internazionali dell’Open Progra
 m\,  la sfida lanciata negli scorsi mesi e anni con Invito al Canto non si 
 ferma. Anzi\,  si arricchisce grazie alla collaborazione con sempre più pe
 rsone\,  gruppi e associazioni desiderosi di esplorare un modo\,  nuovo e a
 ntico al tempo stesso\,  di stare insieme attraverso[..]\nhttps://www.ferma
 taspettacolo.it/eventi/incontro-cantato
URL:https://www.fermataspettacolo.it/eventi/incontro-cantato
END:VEVENT
END:VCALENDAR