BEGIN:VCALENDAR
VERSION:2.0
PRODID:-//eventon.com NONSGML v1.0//EN
CALSCALE:GREGORIAN
METHOD:PUBLISH
BEGIN:VEVENT
UID:69e7d2d00e991
DTSTAMP:20260421T194104Z
DTSTART:20170216T000000Z
DTEND:20170219T000000Z
LOCATION:Teatro Studio Uno - Roma Via Carlo della Rocca 6 - Roma - Lazio
SUMMARY:Giovanna sotto il sego del tempo
DESCRIPTION:Giovanna sotto il sego del tempo è uno spettacolo teatrale isp
 irato alla figura di Giovanna di Castiglia\,  prodotto dall’associazione 
 “Brema 81” di Roma\,  nato da un’idea di Patrizia Bernardini\,  scrit
 to da Adriano Marenco\,  con la regia di Alessandra Caputo e musiche origin
 ali di Rodolfo Valentino Puccio. In scena Patrizia Bernardini.[..]\nhttps:/
 /www.fermataspettacolo.it/eventi/giovanna-sotto-il-sego-del-tempo
URL:https://www.fermataspettacolo.it/eventi/giovanna-sotto-il-sego-del-tempo
END:VEVENT
END:VCALENDAR