BEGIN:VCALENDAR
VERSION:2.0
PRODID:-//eventon.com NONSGML v1.0//EN
CALSCALE:GREGORIAN
METHOD:PUBLISH
BEGIN:VEVENT
UID:69e72c5567cf4
DTSTAMP:20260421T075045Z
DTSTART:20161124T000000Z
DTEND:20161127T000000Z
LOCATION:Teatro Fabbricone - Prato Via Targetti\,  10/12 - Prato - Toscana
SUMMARY:Lus
DESCRIPTION:voce Ermanna Montanarimusica Luigi Ceccarelli\,  Daniele Roccat
 otesto Nevio Spadonispazio scenico e costumi Margherita Manzelli\,  Ermanna
  Montanariregia Marco Martinellilive electronics Luigi Ceccarellicontrabbas
 so Daniele Roccatodisegno abito di Bêlda Margherita Manzellianimazione del
 lo sfondo con opere originali di Margherita Manzelli a cura di Margherita M
 anzelli\,  Alessandro Tedde\,  Francesco Tedderegia del suono Marco Olivier
 idisegno luci[..]\nhttps://www.fermataspettacolo.it/eventi/lus
URL:https://www.fermataspettacolo.it/eventi/lus
END:VEVENT
END:VCALENDAR