BEGIN:VCALENDAR
VERSION:2.0
PRODID:-//eventon.com NONSGML v1.0//EN
CALSCALE:GREGORIAN
METHOD:PUBLISH
BEGIN:VEVENT
UID:69e7759223e9f
DTSTAMP:20260421T130314Z
DTSTART:20161117T000000Z
DTEND:20161127T000000Z
LOCATION:Teatro del Maggio Musicale Fiorentino - Firenze Piazzale Vittorio Gui\,  1 50144  - Firenze - Toscana
SUMMARY:LA BOHÈME
DESCRIPTION:«Una vita gaia e terribile»: è quella dei&nbsp;bohémien.&nb
 sp;In una Parigi fredda e invernale quattro giovani artisti tirano a campar
 e con pochi soldi\,  cercando di mangiare qualcosa e godendo di sprazzi di 
 vita al Caffe Momus. L&#8217;intreccio tra due&nbsp;storie d&#8217;amore\, 
  quelle di&nbsp;Marcello&nbsp;con&nbsp;Musetta e Rodolfo con&nbsp;Mimi è l
 &#8217;occasione per mostrare anche il[..]\nhttps://www.fermataspettacolo.i
 t/eventi/la-boheme
URL:https://www.fermataspettacolo.it/eventi/la-boheme
END:VEVENT
END:VCALENDAR