BEGIN:VCALENDAR
VERSION:2.0
PRODID:-//eventon.com NONSGML v1.0//EN
CALSCALE:GREGORIAN
METHOD:PUBLISH
BEGIN:VEVENT
UID:69e9db78ddfa5
DTSTAMP:20260423T084232Z
DTSTART:20170323T000000Z
DTEND:20170329T000000Z
LOCATION:Teatro del Maggio Musicale Fiorentino - Firenze Piazzale Vittorio Gui\,  1 50144  - Firenze - Toscana
SUMMARY:IL FLAUTO MAGICO
DESCRIPTION:«Il flauto magico è una grande allegoria delle forze che si c
 ontendono l&#8217;umanità»: così il regista Damiano Michieletto introduc
 e questo nuovo allestimento\,  ambientato all&#8217;interno di una scuola c
 he si apre a un viaggio fisico di scoperta e consapevolezza individuale. In
 &nbsp;questa allegoria surreale «Tamino e Pamina\,  accompagnati dall&#821
 7;analfabeta Papageno\,  che conosce[..]\nhttps://www.fermataspettacolo.it/
 eventi/il-flauto-magico
URL:https://www.fermataspettacolo.it/eventi/il-flauto-magico
END:VEVENT
END:VCALENDAR